BEGIN:VCALENDAR
VERSION:2.0
PRODID:-//Sip Magazine - ECPv6.15.20//NONSGML v1.0//EN
CALSCALE:GREGORIAN
METHOD:PUBLISH
X-ORIGINAL-URL:https://sipmagazine.com
X-WR-CALDESC:Events for Sip Magazine
REFRESH-INTERVAL;VALUE=DURATION:PT1H
X-Robots-Tag:noindex
X-PUBLISHED-TTL:PT1H
BEGIN:VTIMEZONE
TZID:America/Los_Angeles
BEGIN:DAYLIGHT
TZOFFSETFROM:-0800
TZOFFSETTO:-0700
TZNAME:PDT
DTSTART:20250309T100000
END:DAYLIGHT
BEGIN:STANDARD
TZOFFSETFROM:-0700
TZOFFSETTO:-0800
TZNAME:PST
DTSTART:20251102T090000
END:STANDARD
BEGIN:DAYLIGHT
TZOFFSETFROM:-0800
TZOFFSETTO:-0700
TZNAME:PDT
DTSTART:20260308T100000
END:DAYLIGHT
BEGIN:STANDARD
TZOFFSETFROM:-0700
TZOFFSETTO:-0800
TZNAME:PST
DTSTART:20261101T090000
END:STANDARD
BEGIN:DAYLIGHT
TZOFFSETFROM:-0800
TZOFFSETTO:-0700
TZNAME:PDT
DTSTART:20270314T100000
END:DAYLIGHT
BEGIN:STANDARD
TZOFFSETFROM:-0700
TZOFFSETTO:-0800
TZNAME:PST
DTSTART:20271107T090000
END:STANDARD
END:VTIMEZONE
BEGIN:VEVENT
DTSTART;TZID=America/Los_Angeles:20260331T183000
DTEND;TZID=America/Los_Angeles:20260331T213000
DTSTAMP:20260421T093749
CREATED:20260302T205419Z
LAST-MODIFIED:20260302T205419Z
UID:10014742-1774981800-1774992600@sipmagazine.com
SUMMARY:Winemaker Dinner: Illahe Vineyards at Noble Rot
DESCRIPTION:Tickets for this new Winemaker Dinner are on sale now! \nOn Tuesday\, March 31\, 2026\, join us for a one-night-only winemaker dinner hosted by Brad Ford of Illahe Vineyards\, one of Oregon’s most respected estate wineries. \nSet in Noble Rot’s private dining space\, this intimate evening will feature a thoughtfully crafted multi-course menu paired with Illahe’s expressive\, small-lot wines. Known for their commitment to sustainability\, estate farming\, and minimal-intervention winemaking\, Illahe’s wines beautifully reflect the character of the Willamette Valley. \nThroughout the evening\, Brad will guide you through his wines\, sharing stories from the vineyard and cellar and offering insight into the philosophy behind each pour. \nWhy you’ll love this experience: \n-A curated multi-course dinner paired with Illahe Vineyards wines\n-Personal interaction with the winemaker\n-An exclusive private dining setting at one of Portland’s most celebrated wine-focused restaurants\n-A relaxed\, communal evening designed for true wine lovers \nJoin us for an evening of exceptional pours and world-class pairings. Every ticket helps us further our mission to suppor local youth and families through our nonprofit partners: Metropolitan Family Service\, New Avenues for Youth and Friends of the Children–Portland. \nDon’t miss this celebration of wine\, food and philanthropy. \nLimited availability \nSecure your tickets today.
URL:https://sipmagazine.com/event/winemaker-dinner-illahe-vineyards-at-noble-rot/
LOCATION:Noble Rot\, 1111 E Burnside St\, Portland\, OR\, 97214\, United States
CATEGORIES:Events,Wine
ATTACH;FMTTYPE=image/jpeg:https://sipmagazine.com/wp-content/uploads/2026/02/DinnerNobleRot.jpg
ORGANIZER;CN="Classic Wines Foundation":MAILTO:info@classicwinesfoundation.com
END:VEVENT
END:VCALENDAR